BEGIN:VCALENDAR
VERSION:2.0
PRODID:-//hacksw/handcal//NONSGML v1.0//EN
BEGIN:VEVENT
SUMMARY:Challenge des Anciens Gyms (individuel et equipes masculines) - 2026
UID:56f4d374-e7f7-4d8e-a028-644614a600cb
DTSTART:20260321T230000Z
DTEND:20260322T230000Z
LOCATION:Localisation   Tassin la demi lune
CATEGORIES:Sportif
STATUS:
URL;VALUE=URI:https://www.gymrhodanienne.fr/evenements/2026/03/22/challenge-des-anciens-gyms-individuel-et-equipes-masculines-2026-2363145
END:VEVENT
END:VCALENDAR
